BEGIN:VCALENDAR
PRODID:-//AT Content Types//AT Event//EN
VERSION:2.0
METHOD:PUBLISH
BEGIN:VEVENT
DTSTAMP:20260423T001940Z
CREATED:20210409T134358Z
UID:ATEvent-e47d72437c0241bd89123a65efe4978e
LAST-MODIFIED:20210409T134515Z
SUMMARY:Gestione e valorizzazione delle competenze
DTSTART:20210415T150000Z
DTEND:20210415T173000Z
LOCATION:On line
CLASS:PUBLIC
END:VEVENT
END:VCALENDAR
