BEGIN:VCALENDAR
PRODID:-//AT Content Types//AT Event//EN
VERSION:1.0
BEGIN:VEVENT
DTSTART:20260410T080000Z
DTEND:20260410T103000Z
DCREATED:20260320T144746Z
UID:ATEvent-326de5ba8ca7447b9c99d4874be2c78b
SEQUENCE:0
LAST-MODIFIED:20260320T144751Z
SUMMARY:Gestione della salute e sicurezza nel distacco e nella somministrazione di lavoro
DESCRIPTION:Webinar dedicato ad approfondire la tematica della tutela 
 della salute e sicurezza dei lavoratori nei contratti di distacco e di
  somministrazione.
LOCATION:Zoom webinar
PRIORITY:3
TRANSP:0
END:VEVENT
END:VCALENDAR
