BEGIN:VCALENDAR
PRODID:-//AT Content Types//AT Event//EN
VERSION:2.0
METHOD:PUBLISH
BEGIN:VEVENT
DTSTAMP:20260424T053211Z
CREATED:20250127T115037Z
UID:ATEvent-05ec74adbde94b66a6cbe732fe878c66
LAST-MODIFIED:20250127T135319Z
SUMMARY:Geopolitica dell'intelligenza artificiale - Presentazione del libro di Alessandro Aresu
DTSTART:20250212T170000Z
DTEND:20250212T183000Z
DESCRIPTION:Ritornano gli ASSOtalk: gli incontri aperti alla città ne
 i nuovi spazi di Assolombarda.
LOCATION:Milano
CLASS:PUBLIC
END:VEVENT
END:VCALENDAR
