BEGIN:VCALENDAR
PRODID:-//AT Content Types//AT Event//EN
VERSION:2.0
METHOD:PUBLISH
BEGIN:VEVENT
DTSTAMP:20260419T130232Z
CREATED:20221028T133010Z
UID:ATEvent-7e7bb8ed423e429ba8ebcff9a9415e26
LAST-MODIFIED:20221108T142730Z
SUMMARY:Generazioni Y e Z: verso una nuova cultura del lavoro?
DTSTART:20221111T090000Z
DTEND:20221111T120000Z
LOCATION:Monza
CLASS:PUBLIC
END:VEVENT
END:VCALENDAR
