BEGIN:VCALENDAR
PRODID:-//AT Content Types//AT Event//EN
VERSION:2.0
METHOD:PUBLISH
BEGIN:VEVENT
DTSTAMP:20260421T180942Z
CREATED:20230525T091532Z
UID:ATEvent-935f21f0b0944eec8a49c0a8ce4dc495
LAST-MODIFIED:20230529T082255Z
SUMMARY:Generare valore dai propri scarti tramite la collaborazione tra aziende multi-settoriali
DTSTART:20230605T090000Z
DTEND:20230605T100000Z
DESCRIPTION:Esperienze per attuare uno sviluppo economico in chiave so
 stenibile
LOCATION:On line
CLASS:PUBLIC
END:VEVENT
END:VCALENDAR
