BEGIN:VCALENDAR
PRODID:-//AT Content Types//AT Event//EN
VERSION:2.0
METHOD:PUBLISH
BEGIN:VEVENT
DTSTAMP:20260424T054606Z
CREATED:20230620T151251Z
UID:ATEvent-07684ca217524d1d890369dc1574a567
LAST-MODIFIED:20230621T103852Z
SUMMARY:Futuro Direzione Nord - "Mete raggiungibili\, obiettivi sostenibili"
DTSTART:20230626T140000Z
DTEND:20230626T160000Z
LOCATION:Milano
CLASS:PUBLIC
END:VEVENT
END:VCALENDAR
