BEGIN:VCALENDAR
PRODID:-//AT Content Types//AT Event//EN
VERSION:2.0
METHOD:PUBLISH
BEGIN:VEVENT
DTSTAMP:20260425T102518Z
CREATED:20210121T145708Z
UID:ATEvent-4f936ac256484ea5ba87837fc11e8b7f
LAST-MODIFIED:20210907T145202Z
SUMMARY:FUSA EXPO
DTSTART:20211004T070000Z
DTEND:20211006T160000Z
LOCATION:Brescia
CLASS:PUBLIC
END:VEVENT
END:VCALENDAR
