BEGIN:VCALENDAR
PRODID:-//AT Content Types//AT Event//EN
VERSION:1.0
BEGIN:VEVENT
DTSTART:20250918T150000Z
DTEND:20250918T180000Z
DCREATED:20250804T132432Z
UID:ATEvent-84f398fa43404cb199a5792529ce17f7
SEQUENCE:0
LAST-MODIFIED:20250804T132437Z
SUMMARY:Fuori Milano Beauty Week – Monza Beauty District
LOCATION:Monza
PRIORITY:3
TRANSP:0
END:VEVENT
END:VCALENDAR
