BEGIN:VCALENDAR
PRODID:-//AT Content Types//AT Event//EN
VERSION:1.0
BEGIN:VEVENT
DTSTART:20161130T080000Z
DTEND:20161130T170000Z
DCREATED:20161115T150546Z
UID:ATEvent-03aef62a35614d838fe3556c4c8c535f
SEQUENCE:0
LAST-MODIFIED:20161115T150613Z
SUMMARY:Forum Euro-Mediterraneo
LOCATION:Roma
PRIORITY:3
TRANSP:0
END:VEVENT
END:VCALENDAR
