BEGIN:VCALENDAR
PRODID:-//AT Content Types//AT Event//EN
VERSION:1.0
BEGIN:VEVENT
DTSTART:20221112T083000Z
DTEND:20221112T123000Z
DCREATED:20221102T151619Z
UID:ATEvent-79b25e39675942bc9f5bc56512845d13
SEQUENCE:0
LAST-MODIFIED:20221110T120320Z
SUMMARY:Forum autunnale Piccola Industria di Confindustria: il punto per superare la crisi
LOCATION:Mogliano Veneto
PRIORITY:3
TRANSP:0
END:VEVENT
END:VCALENDAR
