BEGIN:VCALENDAR
PRODID:-//AT Content Types//AT Event//EN
VERSION:1.0
BEGIN:VEVENT
DTSTART:20221118T140000Z
DTEND:20221118T160000Z
DCREATED:20221028T135918Z
UID:ATEvent-971c896a87d045a785dadabaf6001502
SEQUENCE:0
LAST-MODIFIED:20221110T171405Z
SUMMARY:"Formare" le professioni per il comparto turistico-ricettivo
LOCATION:Milano
PRIORITY:3
TRANSP:0
END:VEVENT
END:VCALENDAR
