BEGIN:VCALENDAR
PRODID:-//AT Content Types//AT Event//EN
VERSION:1.0
BEGIN:VEVENT
DTSTART:20230223T163000Z
DTEND:20230223T183000Z
DCREATED:20230220T171406Z
UID:ATEvent-0011ca3fc9fb4546b99c74904ddd8f92
SEQUENCE:0
LAST-MODIFIED:20230220T171411Z
SUMMARY:Forbes Small Giants: il viaggio alla scoperta delle Eccellenze Italiane
LOCATION:Bergamo
PRIORITY:3
TRANSP:0
END:VEVENT
END:VCALENDAR
