BEGIN:VCALENDAR
PRODID:-//AT Content Types//AT Event//EN
VERSION:1.0
BEGIN:VEVENT
DTSTART:20241022T083000Z
DTEND:20241022T103000Z
DCREATED:20240930T075358Z
UID:ATEvent-6480bdb08fc6400eb3ab54dca6df121a
SEQUENCE:0
LAST-MODIFIED:20240930T130244Z
SUMMARY:Focus Sud Est Asia - Imprese e mercati: opportunità e sfide per il Made in Italy
DESCRIPTION:Focus Sud Est Asia - Imprese e mercati: opportunità e sfi
 de per il Made in Italy
LOCATION:Milano
PRIORITY:3
TRANSP:0
END:VEVENT
END:VCALENDAR
