BEGIN:VCALENDAR
PRODID:-//AT Content Types//AT Event//EN
VERSION:2.0
METHOD:PUBLISH
BEGIN:VEVENT
DTSTAMP:20260424T053556Z
CREATED:20180214T171745Z
UID:ATEvent-db1c960a8ecc4428978818b2614c1ac5
LAST-MODIFIED:20180214T171749Z
SUMMARY:Focus Legge di Bilancio 2018
DTSTART:20180222T140000Z
DTEND:20180222T163000Z
DESCRIPTION:Approfondimento delle novità fiscali
LOCATION:Legnano (MI)
CLASS:PUBLIC
END:VEVENT
END:VCALENDAR
