BEGIN:VCALENDAR
PRODID:-//AT Content Types//AT Event//EN
VERSION:2.0
METHOD:PUBLISH
BEGIN:VEVENT
DTSTAMP:20260424T151336Z
CREATED:20151012T155055Z
UID:ATEvent-36b38e62c86d4ae49bfd0ee7b3e868d1
LAST-MODIFIED:20151013T092413Z
SUMMARY:Focus Group Settore Meccanica
DTSTART:20151019T150000Z
DTEND:20151019T170000Z
DESCRIPTION:Focus Group dedicato alla Meccanica\, organizzato dal Cent
 ro Studi e dall’Ufficio Internazionalizzazione di AIB in collaborazi
 one con l’Ufficio Intelligence Territoriale e Settoriale di UniCredi
 t
LOCATION:Brescia
CLASS:PUBLIC
END:VEVENT
END:VCALENDAR
