BEGIN:VCALENDAR
PRODID:-//AT Content Types//AT Event//EN
VERSION:1.0
BEGIN:VEVENT
DTSTART:20180228T163000Z
DTEND:20180228T183000Z
DCREATED:20180222T145615Z
UID:ATEvent-961ed69365ac4f5db2c3ae68bb37f066
SEQUENCE:0
LAST-MODIFIED:20180222T145706Z
SUMMARY:Flat Tax sì\, Flat Tax no
LOCATION:Cremona
PRIORITY:3
TRANSP:0
END:VEVENT
END:VCALENDAR
