BEGIN:VCALENDAR
PRODID:-//AT Content Types//AT Event//EN
VERSION:2.0
METHOD:PUBLISH
BEGIN:VEVENT
DTSTAMP:20260421T204852Z
CREATED:20180216T142449Z
UID:ATEvent-f222bc9f0a074dfca4d7357cb736a64c
LAST-MODIFIED:20180216T142455Z
SUMMARY:Flat Tax sì\, Flat Tax no? Quale riforma fiscale per il rilancio della nostra economia
DTSTART:20180228T163000Z
DTEND:20180228T183000Z
LOCATION:Cremona
CLASS:PUBLIC
END:VEVENT
END:VCALENDAR
