BEGIN:VCALENDAR
PRODID:-//AT Content Types//AT Event//EN
VERSION:2.0
METHOD:PUBLISH
BEGIN:VEVENT
DTSTAMP:20260424T070030Z
CREATED:20221010T102721Z
UID:ATEvent-1235a467c9a74dd4b3225556f9a71ea6
LAST-MODIFIED:20221010T161835Z
SUMMARY:Firme e documenti elettronici nell'attività di impresa
DTSTART:20221020T073000Z
DTEND:20221020T100000Z
LOCATION:Online
CLASS:PUBLIC
END:VEVENT
END:VCALENDAR
