BEGIN:VCALENDAR
PRODID:-//AT Content Types//AT Event//EN
VERSION:2.0
METHOD:PUBLISH
BEGIN:VEVENT
DTSTAMP:20260421T134434Z
CREATED:20220223T152426Z
UID:ATEvent-faa7379cfcfe41a0b5fe93f7c3e2dbec
LAST-MODIFIED:20220223T152442Z
SUMMARY:Finanziarsi in modo conveniente - Incentivi per la liquidità\, gli investimenti e la patrimonializzazione
DTSTART:20220228T100000Z
DTEND:20220228T113000Z
LOCATION:On line
CLASS:PUBLIC
END:VEVENT
END:VCALENDAR
