BEGIN:VCALENDAR
PRODID:-//AT Content Types//AT Event//EN
VERSION:2.0
METHOD:PUBLISH
BEGIN:VEVENT
DTSTAMP:20260424T165246Z
CREATED:20210722T093336Z
UID:ATEvent-abc68323587e43d2808f05d0c3ac611d
LAST-MODIFIED:20210722T094704Z
SUMMARY:Finanziamenti per Ambiente\, Energia e Clima: il Programma LIFE
DTSTART:20210728T080000Z
DTEND:20210728T100000Z
LOCATION:On line
CLASS:PUBLIC
END:VEVENT
END:VCALENDAR
