BEGIN:VCALENDAR
PRODID:-//AT Content Types//AT Event//EN
VERSION:1.0
BEGIN:VEVENT
DTSTART:20220920T080000Z
DTEND:20220920T100000Z
DCREATED:20220902T131925Z
UID:ATEvent-48ecd1545c9643338492c94eca1c3cde
SEQUENCE:0
LAST-MODIFIED:20220922T132430Z
SUMMARY:Finanziamenti Agevolati SACE - SIMEST per le imprese esportatrici colpite dalla crisi in Ucraina
DESCRIPTION:Webinar gratuito dedicato a due strumenti di supporto alle
  imprese che stanno registrando difficoltà nelle esportazioni o negli
  approvvigionamenti in relazione alla situazione che coinvolge Ucraina
 \, Federazione Russa e Bielorussia.
LOCATION:On line
PRIORITY:3
TRANSP:0
END:VEVENT
END:VCALENDAR
