BEGIN:VCALENDAR
PRODID:-//AT Content Types//AT Event//EN
VERSION:2.0
METHOD:PUBLISH
BEGIN:VEVENT
DTSTAMP:20260425T142625Z
CREATED:20231129T162714Z
UID:ATEvent-318befe552894ebab30a573673bc96b8
LAST-MODIFIED:20231210T112516Z
SUMMARY:Finanziamenti a fondo perduto per le Pmi: massimizzare le opportunità dei Cascade Fundings e l'Innovation Fund
DTSTART:20231214T110000Z
DTEND:20231214T120000Z
DESCRIPTION:Terzo appuntamento del ciclo “Europa 2021-2027: strategi
 e e opportunità nei programmi di finanziamento europei”\, una serie
  di incontri online tenuti da Giacomo Bianchi dell’EU Liaison Office
  presso la Delegazione di Confindustria a Bruxelles.
LOCATION:Online
CLASS:PUBLIC
END:VEVENT
END:VCALENDAR
