BEGIN:VCALENDAR
PRODID:-//AT Content Types//AT Event//EN
VERSION:1.0
BEGIN:VEVENT
DTSTART:20220726T083000Z
DTEND:20220726T100000Z
DCREATED:20220720T125739Z
UID:ATEvent-4dd960b686ff4ab3bd6ea69c6b5900af
SEQUENCE:0
LAST-MODIFIED:20220720T125743Z
SUMMARY:Filiere Attrattività e Agroalimentare di Assolombarda - Incontro di presentazione della Milano Wine Week
LOCATION:On line
PRIORITY:3
TRANSP:0
END:VEVENT
END:VCALENDAR
