BEGIN:VCALENDAR
PRODID:-//AT Content Types//AT Event//EN
VERSION:2.0
METHOD:PUBLISH
BEGIN:VEVENT
DTSTAMP:20260421T105611Z
CREATED:20231013T104337Z
UID:ATEvent-c5ea77b56b7a45f3bdb1f9b058f2bd36
LAST-MODIFIED:20231013T104622Z
SUMMARY:Figli del Capo: Diversity & Inclusion
DTSTART:20231018T150000Z
DTEND:20231018T170000Z
DESCRIPTION:Nuovo appuntamento del ciclo di incontri "Figli del Capo" 
 dedicato a figli di imprenditori.
LOCATION:Milano
CLASS:PUBLIC
END:VEVENT
END:VCALENDAR
