BEGIN:VCALENDAR
PRODID:-//AT Content Types//AT Event//EN
VERSION:1.0
BEGIN:VEVENT
DTSTART:20160628T073000Z
DTEND:20160628T153000Z
DCREATED:20160609T150838Z
UID:ATEvent-b2e8331483d6471092354b221ca858e9
SEQUENCE:0
LAST-MODIFIED:20160609T151951Z
SUMMARY:Fast Export
DESCRIPTION:Incontri formativi sulle nuove semplificazioni doganali pe
 r l'export
LOCATION:Bergamo
PRIORITY:3
TRANSP:0
END:VEVENT
END:VCALENDAR
