BEGIN:VCALENDAR
PRODID:-//AT Content Types//AT Event//EN
VERSION:2.0
METHOD:PUBLISH
BEGIN:VEVENT
DTSTAMP:20260424T105443Z
CREATED:20170928T154700Z
UID:ATEvent-e5a4fe9832d745c39cdb7a20be158690
LAST-MODIFIED:20170928T154706Z
SUMMARY:Fare impresa nella società liquida è possibile?
DTSTART:20171006T150000Z
DTEND:20171006T163000Z
LOCATION:Busto Arsizio (VA)
CLASS:PUBLIC
END:VEVENT
END:VCALENDAR
