BEGIN:VCALENDAR
PRODID:-//AT Content Types//AT Event//EN
VERSION:2.0
METHOD:PUBLISH
BEGIN:VEVENT
DTSTAMP:20260423T195020Z
CREATED:20160317T164601Z
UID:ATEvent-5e9493c8700f460d900375ecebe819c5
LAST-MODIFIED:20160317T164701Z
SUMMARY:Fare affari in Iran dopo l'Implementation Day
DTSTART:20160323T080000Z
DTEND:20160323T120000Z
LOCATION:Legnano (MI)
CLASS:PUBLIC
END:VEVENT
END:VCALENDAR
