BEGIN:VCALENDAR
PRODID:-//AT Content Types//AT Event//EN
VERSION:2.0
METHOD:PUBLISH
BEGIN:VEVENT
DTSTAMP:20260424T034817Z
CREATED:20191011T235538Z
UID:ATEvent-4fd55f8ab97c42ddb8e383c712c8e23a
LAST-MODIFIED:20191011T235558Z
SUMMARY:Far crescere l'apprendistato di primo livello: un'opportunità per imprese e giovani
DTSTART:20191015T070000Z
DTEND:20191015T110000Z
LOCATION:Milano
CLASS:PUBLIC
END:VEVENT
END:VCALENDAR
