BEGIN:VCALENDAR
PRODID:-//AT Content Types//AT Event//EN
VERSION:2.0
METHOD:PUBLISH
BEGIN:VEVENT
DTSTAMP:20260420T151410Z
CREATED:20240918T155157Z
UID:ATEvent-f2e6b48c4eda4481891c8907c475f228
LAST-MODIFIED:20240919T185523Z
SUMMARY:Innovazione: gli strumenti per passare all’azione
DTSTART:20241018T070000Z
DTEND:20241018T090000Z
LOCATION:Gallarate (VA)
CLASS:PUBLIC
END:VEVENT
END:VCALENDAR
