BEGIN:VCALENDAR
PRODID:-//AT Content Types//AT Event//EN
VERSION:1.0
BEGIN:VEVENT
DTSTART:20160713T090000Z
DTEND:20160713T100000Z
DCREATED:20160708T094303Z
UID:ATEvent-bbd01a6c11774a5e8e955ce23dbf5ff5
SEQUENCE:0
LAST-MODIFIED:20160708T094357Z
SUMMARY:Factoring e Supply Chain Management
DESCRIPTION:Seminario on line
LOCATION:Brescia
PRIORITY:3
TRANSP:0
END:VEVENT
END:VCALENDAR
