BEGIN:VCALENDAR
PRODID:-//AT Content Types//AT Event//EN
VERSION:1.0
BEGIN:VEVENT
DTSTART:20171011T071500Z
DTEND:20171011T110000Z
DCREATED:20170925T132501Z
UID:ATEvent-4aec668e8d34491cbd71c77a4a9c9cf2
SEQUENCE:0
LAST-MODIFIED:20170925T132506Z
SUMMARY:Facility Management 2017
DESCRIPTION:analisi dei bisogni e progettazione dei servizi
LOCATION:Milano
PRIORITY:3
TRANSP:0
END:VEVENT
END:VCALENDAR
