BEGIN:VCALENDAR
PRODID:-//AT Content Types//AT Event//EN
VERSION:2.0
METHOD:PUBLISH
BEGIN:VEVENT
DTSTAMP:20260424T065257Z
CREATED:20230925T130523Z
UID:ATEvent-4b144ce6245c47939bc8f0e8b2c850d3
LAST-MODIFIED:20230926T171152Z
SUMMARY:Facilitare il processo di disegno dell'organigramma delle imprese
DTSTART:20231005T133000Z
DTEND:20231005T160000Z
LOCATION:Bergamo e Online
CLASS:PUBLIC
END:VEVENT
END:VCALENDAR
