BEGIN:VCALENDAR
PRODID:-//AT Content Types//AT Event//EN
VERSION:2.0
METHOD:PUBLISH
BEGIN:VEVENT
DTSTAMP:20260422T180433Z
CREATED:20240506T131821Z
UID:ATEvent-0b9ed139437c4123b8a5b610e0daa818
LAST-MODIFIED:20240506T131828Z
SUMMARY:Export Days ANIMA - B2B con buyer esteri del settore macchinari
DTSTART:20240620T070000Z
DTEND:20240620T150000Z
DESCRIPTION:Presenti all'evento circa 40 operatori del comparto meccan
 ica\, provenienti dai 5 continenti. Il giorno seguente\, 21 giugno\, l
 e imprese italiane partecipanti potranno organizzare con i buyer visit
 e in azienda.
LOCATION:Online
CLASS:PUBLIC
END:VEVENT
END:VCALENDAR
