BEGIN:VCALENDAR
PRODID:-//AT Content Types//AT Event//EN
VERSION:1.0
BEGIN:VEVENT
DTSTART:20220628T150000Z
DTEND:20220628T163000Z
DCREATED:20220622T100407Z
UID:ATEvent-e23f6d84102c411cbf66a6fbda9d086e
SEQUENCE:0
LAST-MODIFIED:20220622T100412Z
SUMMARY:Evoluzione digitale - La svolta necessaria per le PMI
LOCATION:Pavia
PRIORITY:3
TRANSP:0
END:VEVENT
END:VCALENDAR
