BEGIN:VCALENDAR
PRODID:-//AT Content Types//AT Event//EN
VERSION:1.0
BEGIN:VEVENT
DTSTART:20220704T153000Z
DTEND:20220704T170000Z
DCREATED:20220629T155253Z
UID:ATEvent-db04b580b4a141a2af34cff20e9ae929
SEQUENCE:0
LAST-MODIFIED:20220629T155323Z
SUMMARY:Evoluzione digitale - La svolta necessaria per le PMI
LOCATION:Lodi
PRIORITY:3
TRANSP:0
END:VEVENT
END:VCALENDAR
