BEGIN:VCALENDAR
PRODID:-//AT Content Types//AT Event//EN
VERSION:2.0
METHOD:PUBLISH
BEGIN:VEVENT
DTSTAMP:20260424T183702Z
CREATED:20250210T142945Z
UID:ATEvent-2e53aaf32e464206983440c0897e73ac
LAST-MODIFIED:20250216T225440Z
SUMMARY:Evento “Varese hydrogen ecosystem: expanding opportunities and boosting synergies”
DTSTART:20250311T080000Z
DTEND:20250311T120000Z
LOCATION:Busto Arsizio (VA)
CLASS:PUBLIC
END:VEVENT
END:VCALENDAR
