BEGIN:VCALENDAR
PRODID:-//AT Content Types//AT Event//EN
VERSION:2.0
METHOD:PUBLISH
BEGIN:VEVENT
DTSTAMP:20260421T110350Z
CREATED:20220422T141748Z
UID:ATEvent-8290a178aece4c7aae181e7022e2b749
LAST-MODIFIED:20220422T143326Z
SUMMARY:Eventi promozionali del nono Summit di SelectUSA sugli investimenti negli USA
DTSTART:20220426T070000Z
DTEND:20220426T153000Z
LOCATION:Milano
CLASS:PUBLIC
END:VEVENT
END:VCALENDAR
