BEGIN:VCALENDAR
PRODID:-//AT Content Types//AT Event//EN
VERSION:1.0
BEGIN:VEVENT
DTSTART:20230209T150000Z
DTEND:20230223T170000Z
DCREATED:20221219T093312Z
UID:ATEvent-d1e3fbab89f546c39f1297154656aaff
SEQUENCE:0
LAST-MODIFIED:20221219T170127Z
SUMMARY:EU Techbridge Final Event - North America-EU matchmaking Energy & Water
PRIORITY:3
TRANSP:0
END:VEVENT
END:VCALENDAR
