BEGIN:VCALENDAR
PRODID:-//AT Content Types//AT Event//EN
VERSION:1.0
BEGIN:VEVENT
DTSTART:20221116T140000Z
DTEND:20221116T150000Z
DCREATED:20221028T135113Z
UID:ATEvent-3ad4296ff0ce4f6594e6ddce43dd849c
SEQUENCE:0
LAST-MODIFIED:20221110T164609Z
SUMMARY:Etichettatura ambientale - Quali obblighi dal 1° gennaio 2023?
LOCATION:Online
PRIORITY:3
TRANSP:0
END:VEVENT
END:VCALENDAR
