BEGIN:VCALENDAR
PRODID:-//AT Content Types//AT Event//EN
VERSION:1.0
BEGIN:VEVENT
DTSTART:20210726T090000Z
DTEND:20210726T100000Z
DCREATED:20210722T094628Z
UID:ATEvent-0dde56b244c74d97925a0e31f7009e52
SEQUENCE:0
LAST-MODIFIED:20210722T094637Z
SUMMARY:Etichettatura ambientale degli imballaggi - le novità
LOCATION:On line
PRIORITY:3
TRANSP:0
END:VEVENT
END:VCALENDAR
