BEGIN:VCALENDAR
PRODID:-//AT Content Types//AT Event//EN
VERSION:2.0
METHOD:PUBLISH
BEGIN:VEVENT
DTSTAMP:20260424T153241Z
CREATED:20211203T093617Z
UID:ATEvent-b4bf06a9cb0f4a5b87d6970b521c20bd
LAST-MODIFIED:20211203T093734Z
SUMMARY:Etichettatura ambientale degli imballaggi - Cosa cambia dal 2022
DTSTART:20211209T140000Z
DTEND:20211209T160000Z
DESCRIPTION:Dal 1° gennaio 2022 sarà obbligatorio etichettare gli im
 ballaggi così come previsto dalle modifiche apportate dal D.Lgs. 116/
 2020
LOCATION:On line
CLASS:PUBLIC
END:VEVENT
END:VCALENDAR
