BEGIN:VCALENDAR
PRODID:-//AT Content Types//AT Event//EN
VERSION:2.0
METHOD:PUBLISH
BEGIN:VEVENT
DTSTAMP:20260424T075955Z
CREATED:20230125T205544Z
UID:ATEvent-9fd919d2c68d487f93f0c17c5e70d747
LAST-MODIFIED:20230125T212418Z
SUMMARY:Etichettatura ambientale degli imballaggi – Le linee guida
DTSTART:20230208T100000Z
DTEND:20230208T110000Z
LOCATION:On line
CLASS:PUBLIC
END:VEVENT
END:VCALENDAR
