BEGIN:VCALENDAR
PRODID:-//AT Content Types//AT Event//EN
VERSION:2.0
METHOD:PUBLISH
BEGIN:VEVENT
DTSTAMP:20260421T121320Z
CREATED:20230703T142715Z
UID:ATEvent-0625acb7560544cc8c70032610889b36
LAST-MODIFIED:20230703T142733Z
SUMMARY:Essere Banca per 1 giorno
DTSTART:20230713T144500Z
DTEND:20230713T170000Z
DESCRIPTION:Come presentarsi agli intermediari finanziari e comprender
 ne le logiche attraverso un business game.
LOCATION:Rho (MI)
CLASS:PUBLIC
END:VEVENT
END:VCALENDAR
