BEGIN:VCALENDAR
PRODID:-//AT Content Types//AT Event//EN
VERSION:2.0
METHOD:PUBLISH
BEGIN:VEVENT
DTSTAMP:20260423T015629Z
CREATED:20210409T141700Z
UID:ATEvent-66a8bd60b69b4e91a92f29c77b706681
LAST-MODIFIED:20210409T141909Z
SUMMARY:Esportare in Cina e Stati Uniti
DTSTART:20210420T130000Z
DTEND:20210420T140000Z
DESCRIPTION:come tutelarsi nei contratti di vendita in questi due merc
 ati primari  la ripartenza di questi due mercati e i principali “dri
 ver” all’origine del rimbalzo
LOCATION:On line
CLASS:PUBLIC
END:VEVENT
END:VCALENDAR
