BEGIN:VCALENDAR
PRODID:-//AT Content Types//AT Event//EN
VERSION:2.0
METHOD:PUBLISH
BEGIN:VEVENT
DTSTAMP:20260424T054502Z
CREATED:20230320T191718Z
UID:ATEvent-fc09b8dd400043e7ae498d6eae7bad55
LAST-MODIFIED:20230320T201425Z
SUMMARY:Esploriamo insieme Bancopass: dalle analisi della Centrale Rischi al Check up dell'Agevolato
DTSTART:20230329T090000Z
DTEND:20230329T094500Z
DESCRIPTION:Secondo di una serie di 4 brevi incontri a cadenza mensile
 \, per scoprire con la guida degli esperti dell’associazione e in mo
 do pratico quanto sia semplice utilizzare le funzioni principali di Ba
 ncopass e i benefici che queste possono portare alla gestione aziendal
 e.
LOCATION:On line
CLASS:PUBLIC
END:VEVENT
END:VCALENDAR
