BEGIN:VCALENDAR
PRODID:-//AT Content Types//AT Event//EN
VERSION:1.0
BEGIN:VEVENT
DTSTART:20240311T100000Z
DTEND:20240311T104500Z
DCREATED:20240212T151850Z
UID:ATEvent-79c447118a534d90b9f3690278c937a9
SEQUENCE:0
LAST-MODIFIED:20240212T151856Z
SUMMARY:Esploriamo insieme Bancopass: dai dati di bilancio ai report di analisi in pochi click
DESCRIPTION:Primo di una serie di 4 brevi incontri a cadenza mensile\,
  che si svolgeranno da marzo a giugno 2024\, per scoprire con la guida
  degli esperti dell’associazione e in modo pratico quanto sia sempli
 ce utilizzare le funzioni principali di Bancopass e i benefici che que
 ste possono portare alla gestione aziendale.
LOCATION:Online
PRIORITY:3
TRANSP:0
END:VEVENT
END:VCALENDAR
