BEGIN:VCALENDAR
PRODID:-//AT Content Types//AT Event//EN
VERSION:2.0
METHOD:PUBLISH
BEGIN:VEVENT
DTSTAMP:20260419T190543Z
CREATED:20221108T113806Z
UID:ATEvent-0aa2f28f22fc4dfdb4803083cb8a9a94
LAST-MODIFIED:20221110T120954Z
SUMMARY:ESG: opportunità di credito per vincere le sfide del fattore energia
DTSTART:20221115T093000Z
DTEND:20221115T113000Z
LOCATION:Online
CLASS:PUBLIC
END:VEVENT
END:VCALENDAR
