BEGIN:VCALENDAR
PRODID:-//AT Content Types//AT Event//EN
VERSION:2.0
METHOD:PUBLISH
BEGIN:VEVENT
DTSTAMP:20260421T164536Z
CREATED:20210406T155931Z
UID:ATEvent-e8af02225f0a4aa69f387c1f93f3399f
LAST-MODIFIED:20210409T141943Z
SUMMARY:Energy Community e autoconsumo collettivo
DTSTART:20210412T080000Z
DTEND:20210412T103000Z
DESCRIPTION:Stato dell’arte e prospettive per le imprese
LOCATION:On line
CLASS:PUBLIC
END:VEVENT
END:VCALENDAR
