BEGIN:VCALENDAR
PRODID:-//AT Content Types//AT Event//EN
VERSION:1.0
BEGIN:VEVENT
DTSTART:20240122T090000Z
DTEND:20240122T100000Z
DCREATED:20240119T095604Z
UID:ATEvent-a3c1569625ad452dbd2deafa8e86a71c
SEQUENCE:0
LAST-MODIFIED:20240119T095618Z
SUMMARY:Energia per le imprese: le nuove procedure di energy e gas release
LOCATION:Online
PRIORITY:3
TRANSP:0
END:VEVENT
END:VCALENDAR
