BEGIN:VCALENDAR
PRODID:-//AT Content Types//AT Event//EN
VERSION:1.0
BEGIN:VEVENT
DTSTART:20240222T153000Z
DTEND:20240222T170000Z
DCREATED:20240209T114912Z
UID:ATEvent-f4c62e277e774115901e7011fe96a10b
SEQUENCE:0
LAST-MODIFIED:20240209T134800Z
SUMMARY:Ecosistemi collaborativi per i cantieri del futuro
LOCATION:Bergamo
PRIORITY:3
TRANSP:0
END:VEVENT
END:VCALENDAR
